BEGIN:VCALENDAR
VERSION:2.0
PRODID:-//Neillsville Area Chamber of Commerce - ECPv6.15.20//NONSGML v1.0//EN
CALSCALE:GREGORIAN
METHOD:PUBLISH
X-WR-CALNAME:Neillsville Area Chamber of Commerce
X-ORIGINAL-URL:https://neillsville.org
X-WR-CALDESC:Events for Neillsville Area Chamber of Commerce
REFRESH-INTERVAL;VALUE=DURATION:PT1H
X-Robots-Tag:noindex
X-PUBLISHED-TTL:PT1H
BEGIN:VTIMEZONE
TZID:UTC
BEGIN:STANDARD
TZOFFSETFROM:+0000
TZOFFSETTO:+0000
TZNAME:UTC
DTSTART:20230101T000000
END:STANDARD
END:VTIMEZONE
BEGIN:VEVENT
DTSTART;VALUE=DATE:20241101
DTEND;VALUE=DATE:20241102
DTSTAMP:20260420T151416
CREATED:20240829T231858Z
LAST-MODIFIED:20240829T231858Z
UID:1535-1730419200-1730505599@neillsville.org
SUMMARY:Neillsville Public School - No School
DESCRIPTION:
URL:https://neillsville.org/event/neillsville-public-school-no-school-2/
LOCATION:Neillsville Public School\, 614 E. 5th Street\, Neillsville\, WI\, 54456\, United States
END:VEVENT
END:VCALENDAR