BEGIN:VCALENDAR
VERSION:2.0
PRODID:-//Neillsville Area Chamber of Commerce - ECPv6.15.20//NONSGML v1.0//EN
CALSCALE:GREGORIAN
METHOD:PUBLISH
X-WR-CALNAME:Neillsville Area Chamber of Commerce
X-ORIGINAL-URL:https://neillsville.org
X-WR-CALDESC:Events for Neillsville Area Chamber of Commerce
REFRESH-INTERVAL;VALUE=DURATION:PT1H
X-Robots-Tag:noindex
X-PUBLISHED-TTL:PT1H
BEGIN:VTIMEZONE
TZID:UTC
BEGIN:STANDARD
TZOFFSETFROM:+0000
TZOFFSETTO:+0000
TZNAME:UTC
DTSTART:20230101T000000
END:STANDARD
END:VTIMEZONE
BEGIN:VEVENT
DTSTART;TZID=UTC:20241116T100000
DTEND;TZID=UTC:20241116T150000
DTSTAMP:20260420T151355
CREATED:20241115T150245Z
LAST-MODIFIED:20241115T150245Z
UID:1970-1731751200-1731769200@neillsville.org
SUMMARY:Indoor Market
DESCRIPTION:
URL:https://neillsville.org/event/indoor-market/
LOCATION:WI
END:VEVENT
END:VCALENDAR