BEGIN:VCALENDAR
VERSION:2.0
PRODID:-//Neillsville Area Chamber of Commerce - ECPv6.15.20//NONSGML v1.0//EN
CALSCALE:GREGORIAN
METHOD:PUBLISH
X-ORIGINAL-URL:https://neillsville.org
X-WR-CALDESC:Events for Neillsville Area Chamber of Commerce
REFRESH-INTERVAL;VALUE=DURATION:PT1H
X-Robots-Tag:noindex
X-PUBLISHED-TTL:PT1H
BEGIN:VTIMEZONE
TZID:UTC
BEGIN:STANDARD
TZOFFSETFROM:+0000
TZOFFSETTO:+0000
TZNAME:UTC
DTSTART:20230101T000000
END:STANDARD
END:VTIMEZONE
BEGIN:VEVENT
DTSTART;TZID=UTC:20241120T160000
DTEND;TZID=UTC:20241120T170000
DTSTAMP:20260420T083721
CREATED:20241115T144801Z
LAST-MODIFIED:20241115T144801Z
UID:1947-1732118400-1732122000@neillsville.org
SUMMARY:Sassy's Suites Consignment Grand Opening
DESCRIPTION:
URL:https://neillsville.org/event/sassys-suites-consignment-grand-opening/
LOCATION:Sassy’s Suites Consignment\, 502 Hewett Street\, Neillsville\, WI\, 54456\, United States
END:VEVENT
END:VCALENDAR