BEGIN:VCALENDAR
VERSION:2.0
PRODID:-//Neillsville Area Chamber of Commerce - ECPv6.15.20//NONSGML v1.0//EN
CALSCALE:GREGORIAN
METHOD:PUBLISH
X-ORIGINAL-URL:https://neillsville.org
X-WR-CALDESC:Events for Neillsville Area Chamber of Commerce
REFRESH-INTERVAL;VALUE=DURATION:PT1H
X-Robots-Tag:noindex
X-PUBLISHED-TTL:PT1H
BEGIN:VTIMEZONE
TZID:UTC
BEGIN:STANDARD
TZOFFSETFROM:+0000
TZOFFSETTO:+0000
TZNAME:UTC
DTSTART:20230101T000000
END:STANDARD
END:VTIMEZONE
BEGIN:VEVENT
DTSTART;TZID=UTC:20241123T090000
DTEND;TZID=UTC:20241123T153000
DTSTAMP:20260420T124649
CREATED:20241104T220714Z
LAST-MODIFIED:20241104T220714Z
UID:1937-1732352400-1732375800@neillsville.org
SUMMARY:CART Holiday Arts & Crafts Workshops
DESCRIPTION:
URL:https://neillsville.org/event/cart-holiday-arts-crafts-workshops/
LOCATION:Clark Cultural Art Center\, 201 E 4th Street\, Neillsville\, WI\, 54456\, United States
END:VEVENT
END:VCALENDAR