BEGIN:VCALENDAR
VERSION:2.0
PRODID:-//Neillsville Area Chamber of Commerce - ECPv6.15.20//NONSGML v1.0//EN
CALSCALE:GREGORIAN
METHOD:PUBLISH
X-ORIGINAL-URL:https://neillsville.org
X-WR-CALDESC:Events for Neillsville Area Chamber of Commerce
REFRESH-INTERVAL;VALUE=DURATION:PT1H
X-Robots-Tag:noindex
X-PUBLISHED-TTL:PT1H
BEGIN:VTIMEZONE
TZID:UTC
BEGIN:STANDARD
TZOFFSETFROM:+0000
TZOFFSETTO:+0000
TZNAME:UTC
DTSTART:20240101T000000
END:STANDARD
END:VTIMEZONE
BEGIN:VEVENT
DTSTART;TZID=UTC:20250123T160000
DTEND;TZID=UTC:20250123T170000
DTSTAMP:20260420T184100
CREATED:20241009T230030Z
LAST-MODIFIED:20241009T230030Z
UID:1849-1737648000-1737651600@neillsville.org
SUMMARY:Neillsville Public Library New Release Sneak Peek
DESCRIPTION:
URL:https://neillsville.org/event/neillsville-public-library-new-release-sneak-peek-4/
LOCATION:Neillsville Public Library\, 409 Hewett Street\, Neillsville\, WI\, 54456\, United States
END:VEVENT
END:VCALENDAR