BEGIN:VCALENDAR
VERSION:2.0
PRODID:-//Neillsville Area Chamber of Commerce - ECPv6.15.20//NONSGML v1.0//EN
CALSCALE:GREGORIAN
METHOD:PUBLISH
X-WR-CALNAME:Neillsville Area Chamber of Commerce
X-ORIGINAL-URL:https://neillsville.org
X-WR-CALDESC:Events for Neillsville Area Chamber of Commerce
REFRESH-INTERVAL;VALUE=DURATION:PT1H
X-Robots-Tag:noindex
X-PUBLISHED-TTL:PT1H
BEGIN:VTIMEZONE
TZID:UTC
BEGIN:STANDARD
TZOFFSETFROM:+0000
TZOFFSETTO:+0000
TZNAME:UTC
DTSTART:20240101T000000
END:STANDARD
END:VTIMEZONE
BEGIN:VEVENT
DTSTART;TZID=UTC:20250217T140000
DTEND;TZID=UTC:20250217T150000
DTSTAMP:20260421T023608
CREATED:20250121T164809Z
LAST-MODIFIED:20250121T164809Z
UID:2088-1739800800-1739804400@neillsville.org
SUMMARY:East Valley Veterinary Clinic Grand Opening
DESCRIPTION:
URL:https://neillsville.org/event/east-valley-veterinary-clinic-grand-opening/
LOCATION:East Valley Veterinary Clinic\, 2510 Black River Road\, Neillsville\, WI\, 54456\, United States
END:VEVENT
END:VCALENDAR