BEGIN:VCALENDAR
VERSION:2.0
PRODID:-//Neillsville Area Chamber of Commerce - ECPv6.15.20//NONSGML v1.0//EN
CALSCALE:GREGORIAN
METHOD:PUBLISH
X-ORIGINAL-URL:https://neillsville.org
X-WR-CALDESC:Events for Neillsville Area Chamber of Commerce
REFRESH-INTERVAL;VALUE=DURATION:PT1H
X-Robots-Tag:noindex
X-PUBLISHED-TTL:PT1H
BEGIN:VTIMEZONE
TZID:UTC
BEGIN:STANDARD
TZOFFSETFROM:+0000
TZOFFSETTO:+0000
TZNAME:UTC
DTSTART:20240101T000000
END:STANDARD
END:VTIMEZONE
BEGIN:VEVENT
DTSTART;VALUE=DATE:20250220
DTEND;VALUE=DATE:20250222
DTSTAMP:20260421T074114
CREATED:20240830T124712Z
LAST-MODIFIED:20240830T124712Z
UID:1595-1740009600-1740182399@neillsville.org
SUMMARY:St. John's Lutheran School - No School
DESCRIPTION:
URL:https://neillsville.org/event/st-johns-lutheran-school-no-school-4/
LOCATION:St. John’s Lutheran School\, 711 W. 5th Street\, Neillsville\, WI\, 54456\, United States
END:VEVENT
END:VCALENDAR