BEGIN:VCALENDAR
VERSION:2.0
PRODID:-//Neillsville Area Chamber of Commerce - ECPv6.15.20//NONSGML v1.0//EN
CALSCALE:GREGORIAN
METHOD:PUBLISH
X-ORIGINAL-URL:https://neillsville.org
X-WR-CALDESC:Events for Neillsville Area Chamber of Commerce
REFRESH-INTERVAL;VALUE=DURATION:PT1H
X-Robots-Tag:noindex
X-PUBLISHED-TTL:PT1H
BEGIN:VTIMEZONE
TZID:UTC
BEGIN:STANDARD
TZOFFSETFROM:+0000
TZOFFSETTO:+0000
TZNAME:UTC
DTSTART:20240101T000000
END:STANDARD
END:VTIMEZONE
BEGIN:VEVENT
DTSTART;TZID=UTC:20250222T133000
DTEND;TZID=UTC:20250222T150000
DTSTAMP:20260421T103423
CREATED:20250128T163330Z
LAST-MODIFIED:20250128T163330Z
UID:2100-1740231000-1740236400@neillsville.org
SUMMARY:Bingo
DESCRIPTION:
URL:https://neillsville.org/event/bingo/
LOCATION:Clark Cultural Art Center\, 201 E 4th Street\, Neillsville\, WI\, 54456\, United States
END:VEVENT
BEGIN:VEVENT
DTSTART;TZID=UTC:20250222T170000
DTEND;TZID=UTC:20250222T183000
DTSTAMP:20260421T103423
CREATED:20250121T163533Z
LAST-MODIFIED:20250121T163533Z
UID:2073-1740243600-1740249000@neillsville.org
SUMMARY:Candlelight Snowshoe/Walk O'Neill Creek Trail
DESCRIPTION:
URL:https://neillsville.org/event/candlelight-snowshoe-walk-oneill-creek-trail/
LOCATION:Opelt Park\, 801 Hewett Street\, Neillsville\, WI\, 54456\, United States
END:VEVENT
BEGIN:VEVENT
DTSTART;TZID=UTC:20250222T170000
DTEND;TZID=UTC:20250222T190000
DTSTAMP:20260421T103423
CREATED:20250121T163723Z
LAST-MODIFIED:20250121T163723Z
UID:2076-1740243600-1740250800@neillsville.org
SUMMARY:Kids Carnival
DESCRIPTION:
URL:https://neillsville.org/event/kids-carnival/
LOCATION:St. John’s Lutheran School\, 711 W. 5th Street\, Neillsville\, WI\, 54456\, United States
END:VEVENT
END:VCALENDAR