BEGIN:VCALENDAR
VERSION:2.0
PRODID:-//Neillsville Area Chamber of Commerce - ECPv6.15.20//NONSGML v1.0//EN
CALSCALE:GREGORIAN
METHOD:PUBLISH
X-WR-CALNAME:Neillsville Area Chamber of Commerce
X-ORIGINAL-URL:https://neillsville.org
X-WR-CALDESC:Events for Neillsville Area Chamber of Commerce
REFRESH-INTERVAL;VALUE=DURATION:PT1H
X-Robots-Tag:noindex
X-PUBLISHED-TTL:PT1H
BEGIN:VTIMEZONE
TZID:UTC
BEGIN:STANDARD
TZOFFSETFROM:+0000
TZOFFSETTO:+0000
TZNAME:UTC
DTSTART:20250101T000000
END:STANDARD
END:VTIMEZONE
BEGIN:VEVENT
DTSTART;TZID=UTC:20260407T100000
DTEND;TZID=UTC:20260407T110000
DTSTAMP:20260421T205710
CREATED:20260318T204437Z
LAST-MODIFIED:20260318T204437Z
UID:3135-1775556000-1775559600@neillsville.org
SUMMARY:Ribbon Cutting - The Vault
DESCRIPTION:
URL:https://neillsville.org/event/ribbon-cutting-the-vault/
LOCATION:The Vault\, 538 Hewett St\, Neillsville\, WI\, 54456\, United States
END:VEVENT
END:VCALENDAR