BEGIN:VCALENDAR
VERSION:2.0
PRODID:-//Neillsville Area Chamber of Commerce - ECPv6.15.20//NONSGML v1.0//EN
CALSCALE:GREGORIAN
METHOD:PUBLISH
X-ORIGINAL-URL:https://neillsville.org
X-WR-CALDESC:Events for Neillsville Area Chamber of Commerce
REFRESH-INTERVAL;VALUE=DURATION:PT1H
X-Robots-Tag:noindex
X-PUBLISHED-TTL:PT1H
BEGIN:VTIMEZONE
TZID:UTC
BEGIN:STANDARD
TZOFFSETFROM:+0000
TZOFFSETTO:+0000
TZNAME:UTC
DTSTART:20250101T000000
END:STANDARD
END:VTIMEZONE
BEGIN:VEVENT
DTSTART;TZID=UTC:20260411T103000
DTEND;TZID=UTC:20260411T120000
DTSTAMP:20260421T205123
CREATED:20260318T204924Z
LAST-MODIFIED:20260318T204924Z
UID:3141-1775903400-1775908800@neillsville.org
SUMMARY:Learn to Grow Your Own Shiitake Mushrooms
DESCRIPTION:
URL:https://neillsville.org/event/learn-to-grow-your-own-shiitake-mushrooms/
LOCATION:Clark Cultural Art Center\, 201 E 4th Street\, Neillsville\, WI\, 54456\, United States
END:VEVENT
END:VCALENDAR