BEGIN:VCALENDAR
VERSION:2.0
PRODID:-//Neillsville Area Chamber of Commerce - ECPv6.15.20//NONSGML v1.0//EN
CALSCALE:GREGORIAN
METHOD:PUBLISH
X-WR-CALNAME:Neillsville Area Chamber of Commerce
X-ORIGINAL-URL:https://neillsville.org
X-WR-CALDESC:Events for Neillsville Area Chamber of Commerce
REFRESH-INTERVAL;VALUE=DURATION:PT1H
X-Robots-Tag:noindex
X-PUBLISHED-TTL:PT1H
BEGIN:VTIMEZONE
TZID:UTC
BEGIN:STANDARD
TZOFFSETFROM:+0000
TZOFFSETTO:+0000
TZNAME:UTC
DTSTART:20230101T000000
END:STANDARD
END:VTIMEZONE
BEGIN:VEVENT
DTSTART;VALUE=DATE:20241101
DTEND;VALUE=DATE:20241102
DTSTAMP:20260420T135949
CREATED:20240829T231858Z
LAST-MODIFIED:20240829T231858Z
UID:1535-1730419200-1730505599@neillsville.org
SUMMARY:Neillsville Public School - No School
DESCRIPTION:
URL:https://neillsville.org/event/neillsville-public-school-no-school-2/
LOCATION:Neillsville Public School\, 614 E. 5th Street\, Neillsville\, WI\, 54456\, United States
END:VEVENT
BEGIN:VEVENT
DTSTART;TZID=UTC:20241108T103000
DTEND;TZID=UTC:20241108T110000
DTSTAMP:20260420T135949
CREATED:20240909T165440Z
LAST-MODIFIED:20240909T165440Z
UID:1655-1731061800-1731063600@neillsville.org
SUMMARY:Neillsville Public Library Story Hour
DESCRIPTION:Join Miss Kathy for reading stories and doing a craft.\nStory hour is focused for children ages 3 to 6\, but everyone is welcome!
URL:https://neillsville.org/event/neillsville-public-library-story-hour-4/
LOCATION:Neillsville Public Library\, 409 Hewett Street\, Neillsville\, WI\, 54456\, United States
END:VEVENT
BEGIN:VEVENT
DTSTART;TZID=UTC:20241109T090000
DTEND;TZID=UTC:20241109T130000
DTSTAMP:20260420T135949
CREATED:20241008T141346Z
LAST-MODIFIED:20241008T141346Z
UID:1796-1731142800-1731157200@neillsville.org
SUMMARY:60th Holiday Fair
DESCRIPTION:
URL:https://neillsville.org/event/60th-holiday-fair/
LOCATION:United Church of Christ\, 515 W 2nd Street\, Neillsville\, WI\, 54456\, United States
END:VEVENT
BEGIN:VEVENT
DTSTART;TZID=UTC:20241111T150000
DTEND;TZID=UTC:20241111T160000
DTSTAMP:20260420T135949
CREATED:20240531T190500Z
LAST-MODIFIED:20240531T190500Z
UID:908-1731337200-1731340800@neillsville.org
SUMMARY:The Highground ATV Raffle Drawing
DESCRIPTION:Honoring our Veterans
URL:https://neillsville.org/event/the-highground-atv-raffle-drawing/
LOCATION:The Highground\, W7031 Ridge Rd\, Neillsville\, WI\, 54456\, United States
END:VEVENT
BEGIN:VEVENT
DTSTART;TZID=UTC:20241112T140000
DTEND;TZID=UTC:20241112T160000
DTSTAMP:20260420T135949
CREATED:20241009T224656Z
LAST-MODIFIED:20241009T225105Z
UID:1820-1731420000-1731427200@neillsville.org
SUMMARY:Neillsville Public Library 'Crafternoon'
DESCRIPTION:
URL:https://neillsville.org/event/neillsville-public-library-crafternoon/
LOCATION:Neillsville Public Library\, 409 Hewett Street\, Neillsville\, WI\, 54456\, United States
END:VEVENT
BEGIN:VEVENT
DTSTART;TZID=UTC:20241116T100000
DTEND;TZID=UTC:20241116T150000
DTSTAMP:20260420T135949
CREATED:20241115T150245Z
LAST-MODIFIED:20241115T150245Z
UID:1970-1731751200-1731769200@neillsville.org
SUMMARY:Indoor Market
DESCRIPTION:
URL:https://neillsville.org/event/indoor-market/
LOCATION:WI
END:VEVENT
BEGIN:VEVENT
DTSTART;TZID=UTC:20241119T100000
DTEND;TZID=UTC:20241119T110000
DTSTAMP:20260420T135949
CREATED:20241115T145116Z
LAST-MODIFIED:20241115T145116Z
UID:1952-1732010400-1732014000@neillsville.org
SUMMARY:Sunset Place Apartments Grand Opening
DESCRIPTION:
URL:https://neillsville.org/event/sunset-place-apartments-grand-opening/
LOCATION:Sunset Place Apartments\, 216 Sunset Place\, Neillsville\, WI\, 54456\, United States
END:VEVENT
BEGIN:VEVENT
DTSTART;TZID=UTC:20241119T140000
DTEND;TZID=UTC:20241119T150000
DTSTAMP:20260420T135949
CREATED:20241009T225335Z
LAST-MODIFIED:20241009T225335Z
UID:1828-1732024800-1732028400@neillsville.org
SUMMARY:Neillsville Public Library B.Y.O.Book Club
DESCRIPTION:
URL:https://neillsville.org/event/neillsville-public-library-b-y-o-book-club-2/
LOCATION:Neillsville Public Library\, 409 Hewett Street\, Neillsville\, WI\, 54456\, United States
END:VEVENT
BEGIN:VEVENT
DTSTART;TZID=UTC:20241120T160000
DTEND;TZID=UTC:20241120T170000
DTSTAMP:20260420T135949
CREATED:20241115T144801Z
LAST-MODIFIED:20241115T144801Z
UID:1947-1732118400-1732122000@neillsville.org
SUMMARY:Sassy's Suites Consignment Grand Opening
DESCRIPTION:
URL:https://neillsville.org/event/sassys-suites-consignment-grand-opening/
LOCATION:Sassy’s Suites Consignment\, 502 Hewett Street\, Neillsville\, WI\, 54456\, United States
END:VEVENT
BEGIN:VEVENT
DTSTART;TZID=UTC:20241122T103000
DTEND;TZID=UTC:20241122T110000
DTSTAMP:20260420T135949
CREATED:20240909T165517Z
LAST-MODIFIED:20240909T165517Z
UID:1657-1732271400-1732273200@neillsville.org
SUMMARY:Neillsville Public Library Story Hour
DESCRIPTION:Join Miss Kathy for reading stories and doing a craft.\nStory hour is focused for children ages 3 to 6\, but everyone is welcome!
URL:https://neillsville.org/event/neillsville-public-library-story-hour-5/
LOCATION:Neillsville Public Library\, 409 Hewett Street\, Neillsville\, WI\, 54456\, United States
END:VEVENT
BEGIN:VEVENT
DTSTART;TZID=UTC:20241122T170000
DTEND;TZID=UTC:20241122T200000
DTSTAMP:20260420T135949
CREATED:20241119T133209Z
LAST-MODIFIED:20241119T133209Z
UID:1992-1732294800-1732305600@neillsville.org
SUMMARY:Hunter's Buffet
DESCRIPTION:
URL:https://neillsville.org/event/hunters-buffet/
LOCATION:Neillsville American Legion\, 6 Boon Blvd\, Neillsville\, WI\, 54456\, United States
END:VEVENT
BEGIN:VEVENT
DTSTART;TZID=UTC:20241123T090000
DTEND;TZID=UTC:20241123T153000
DTSTAMP:20260420T135949
CREATED:20241104T220714Z
LAST-MODIFIED:20241104T220714Z
UID:1937-1732352400-1732375800@neillsville.org
SUMMARY:CART Holiday Arts & Crafts Workshops
DESCRIPTION:
URL:https://neillsville.org/event/cart-holiday-arts-crafts-workshops/
LOCATION:Clark Cultural Art Center\, 201 E 4th Street\, Neillsville\, WI\, 54456\, United States
END:VEVENT
BEGIN:VEVENT
DTSTART;VALUE=DATE:20241127
DTEND;VALUE=DATE:20241130
DTSTAMP:20260420T135949
CREATED:20240829T231953Z
LAST-MODIFIED:20240829T231953Z
UID:1537-1732665600-1732924799@neillsville.org
SUMMARY:Neillsville Public School - Holiday Break
DESCRIPTION:
URL:https://neillsville.org/event/neillsville-public-school-holiday-break/
LOCATION:Neillsville Public School\, 614 E. 5th Street\, Neillsville\, WI\, 54456\, United States
END:VEVENT
BEGIN:VEVENT
DTSTART;VALUE=DATE:20241127
DTEND;VALUE=DATE:20241130
DTSTAMP:20260420T135949
CREATED:20240830T124409Z
LAST-MODIFIED:20240830T124409Z
UID:1587-1732665600-1732924799@neillsville.org
SUMMARY:St. John's Lutheran School - Thanksgiving Break
DESCRIPTION:
URL:https://neillsville.org/event/st-johns-lutheran-school-thanksgiving-break/
LOCATION:St. John’s Lutheran School\, 711 W. 5th Street\, Neillsville\, WI\, 54456\, United States
END:VEVENT
BEGIN:VEVENT
DTSTART;TZID=UTC:20241127T083000
DTEND;TZID=UTC:20241127T120000
DTSTAMP:20260420T135949
CREATED:20241119T133507Z
LAST-MODIFIED:20241119T133507Z
UID:2000-1732696200-1732708800@neillsville.org
SUMMARY:Thanksgiving Kids Cozy Kits
DESCRIPTION:
URL:https://neillsville.org/event/thanksgiving-kids-cozy-kits/
LOCATION:Simplicity Credit Union\, 335 W Division Street\, Neillsville\, WI\, 54456\, United States
END:VEVENT
BEGIN:VEVENT
DTSTART;TZID=UTC:20241128T113000
DTEND;TZID=UTC:20241128T133000
DTSTAMP:20260420T135949
CREATED:20241119T133401Z
LAST-MODIFIED:20241119T133401Z
UID:1997-1732793400-1732800600@neillsville.org
SUMMARY:Community Thanksgiving Dinner
DESCRIPTION:
URL:https://neillsville.org/event/community-thanksgiving-dinner/
LOCATION:Calvary Lutheran Church\, 213 Hill St\, Neillsville\, WI\, 54456\, United States
END:VEVENT
BEGIN:VEVENT
DTSTART;TZID=UTC:20241128T160000
DTEND;TZID=UTC:20241128T170000
DTSTAMP:20260420T135949
CREATED:20241009T225923Z
LAST-MODIFIED:20241009T225923Z
UID:1845-1732809600-1732813200@neillsville.org
SUMMARY:Neillsville Public Library New Release Sneak Peek
DESCRIPTION:
URL:https://neillsville.org/event/neillsville-public-library-new-release-sneak-peek-2/
LOCATION:Neillsville Public Library\, 409 Hewett Street\, Neillsville\, WI\, 54456\, United States
END:VEVENT
END:VCALENDAR